BEGIN:VCALENDAR
VERSION:2.0
PRODID:-//Gentiana Schools - ECPv6.15.20//NONSGML v1.0//EN
CALSCALE:GREGORIAN
METHOD:PUBLISH
X-WR-CALNAME:Gentiana Schools
X-ORIGINAL-URL:https://gentianaschool.org/en/
X-WR-CALDESC:Events for Gentiana Schools
REFRESH-INTERVAL;VALUE=DURATION:PT1H
X-Robots-Tag:noindex
X-PUBLISHED-TTL:PT1H
BEGIN:VTIMEZONE
TZID:Europe/Zurich
BEGIN:DAYLIGHT
TZOFFSETFROM:+0100
TZOFFSETTO:+0200
TZNAME:CEST
DTSTART:20240331T010000
END:DAYLIGHT
BEGIN:STANDARD
TZOFFSETFROM:+0200
TZOFFSETTO:+0100
TZNAME:CET
DTSTART:20241027T010000
END:STANDARD
BEGIN:DAYLIGHT
TZOFFSETFROM:+0100
TZOFFSETTO:+0200
TZNAME:CEST
DTSTART:20250330T010000
END:DAYLIGHT
BEGIN:STANDARD
TZOFFSETFROM:+0200
TZOFFSETTO:+0100
TZNAME:CET
DTSTART:20251026T010000
END:STANDARD
BEGIN:DAYLIGHT
TZOFFSETFROM:+0100
TZOFFSETTO:+0200
TZNAME:CEST
DTSTART:20260329T010000
END:DAYLIGHT
BEGIN:STANDARD
TZOFFSETFROM:+0200
TZOFFSETTO:+0100
TZNAME:CET
DTSTART:20261025T010000
END:STANDARD
END:VTIMEZONE
BEGIN:VEVENT
DTSTART;TZID=Europe/Zurich:20250210T170000
DTEND;TZID=Europe/Zurich:20250210T200000
DTSTAMP:20260426T040936
CREATED:20240927T132143Z
LAST-MODIFIED:20250115T083321Z
UID:3987-1739206800-1739217600@gentianaschool.org
SUMMARY:General Assembly 2025
DESCRIPTION:20th General Assembly of the Gentiana Schools Association\, Nairobi\nDear members of the association Gentiana Schools Nairobi \nWe cordially invite you to the 20th General Assembly of the Gentiana Schools Nairobi Association. The meeting will be held in the parish hall of the Catholic parish of St. Peter and Paul in Winterthur. To our delight\, Peter Baumgartner will be there. The actual meeting begins at 18:15. Beforehand\, we cordially invite you to an aperitif and a pleasant get-together with discussions from 17.00h. \n\nDate: Monday\, February 10\, 2025 \n\n \nLocation:\nPfarreiheim der kath. Pfarrei St.Peter und Paul\nLaboratoriumstrasse. 5\, Winterthur\nWalking time from the station: 7 minutes. \n\nTime:\nfrom 17h General exchange and aperitif\nMeeting 18.15 – 20.00h \n\n\n\nWe look forward to welcoming you to Winterthur. \nOn behalf of the Association Board\nBruno Bollhalder\, President \nMuren 645\, 9657 Unterwasser\n079 825 81 55\ninfo@gentianaschool.org \n\n\nAgenda\n1\nWelcome \n2\nElection of the tellers \n3\nApproval of the minutes of the AGM of 04.03.2024\nNote: The minutes can be downloaded here.\n GV2025_Traktandum 3_Protokoll GV 2024 \n4\nAnnual Report 2024\nNote: The Annual Report 2024 is available here.\n GV2025_Traktandum 4_Jahresbericht 2024 \n5\nAnnual financial statements 2024\nNote: The annual financial statements for 2024 are available here.\n AGM2025_Agenda item 5_Annual financial statements 2024 \n6\n2024 audit report\nNote: The 2024 audit report is available here.\n AGM2025_agenda_item 6_audit_report \n7\nBudget 2025\nNote: The 2025 budget is available on the homepage.\n GV2025_Traktandum 7_Budget 2025 \n8\nElections\nElection of Jürg Eschenmoser\, Mörschwil\, as auditor until the 2026 AGM.\n AGM2025_Agenda item 8_Election of auditor \n9\nNews from Kenya\nPeter Baumgartner will report on the Gentiana schools. \n10\nMiscellaneous:\nQuestions and discussions \n\nMotions to be presented to the AGM must be submitted to the Association’s Board of Directors by January 31\, 2025 at the latest.
URL:https://gentianaschool.org/en/event/general-assembly-2025/
LOCATION:Parish hall of the catholic parish St.Peter and Paul\, Laboratory Street 5\, Winterthur\, Zurich\, 8400\, Switzerland
CATEGORIES:Event,GV
ATTACH;FMTTYPE=image/jpeg:https://gentianaschool.org/wp-content/uploads/2024/09/20241203_110536-scaled.jpg
ORGANIZER;CN="Bruno Bollhalder":MAILTO:info@gentianaschool.org
END:VEVENT
END:VCALENDAR