BEGIN:VCALENDAR
VERSION:2.0
PRODID:-//Gentiana Schools - ECPv6.15.20//NONSGML v1.0//EN
CALSCALE:GREGORIAN
METHOD:PUBLISH
X-WR-CALNAME:Gentiana Schools
X-ORIGINAL-URL:https://gentianaschool.org/en/
X-WR-CALDESC:Events for Gentiana Schools
REFRESH-INTERVAL;VALUE=DURATION:PT1H
X-Robots-Tag:noindex
X-PUBLISHED-TTL:PT1H
BEGIN:VTIMEZONE
TZID:Europe/Zurich
BEGIN:DAYLIGHT
TZOFFSETFROM:+0100
TZOFFSETTO:+0200
TZNAME:CEST
DTSTART:20220327T010000
END:DAYLIGHT
BEGIN:STANDARD
TZOFFSETFROM:+0200
TZOFFSETTO:+0100
TZNAME:CET
DTSTART:20221030T010000
END:STANDARD
BEGIN:DAYLIGHT
TZOFFSETFROM:+0100
TZOFFSETTO:+0200
TZNAME:CEST
DTSTART:20230326T010000
END:DAYLIGHT
BEGIN:STANDARD
TZOFFSETFROM:+0200
TZOFFSETTO:+0100
TZNAME:CET
DTSTART:20231029T010000
END:STANDARD
BEGIN:DAYLIGHT
TZOFFSETFROM:+0100
TZOFFSETTO:+0200
TZNAME:CEST
DTSTART:20240331T010000
END:DAYLIGHT
BEGIN:STANDARD
TZOFFSETFROM:+0200
TZOFFSETTO:+0100
TZNAME:CET
DTSTART:20241027T010000
END:STANDARD
BEGIN:DAYLIGHT
TZOFFSETFROM:+0100
TZOFFSETTO:+0200
TZNAME:CEST
DTSTART:20250330T010000
END:DAYLIGHT
BEGIN:STANDARD
TZOFFSETFROM:+0200
TZOFFSETTO:+0100
TZNAME:CET
DTSTART:20251026T010000
END:STANDARD
BEGIN:DAYLIGHT
TZOFFSETFROM:+0100
TZOFFSETTO:+0200
TZNAME:CEST
DTSTART:20260329T010000
END:DAYLIGHT
BEGIN:STANDARD
TZOFFSETFROM:+0200
TZOFFSETTO:+0100
TZNAME:CET
DTSTART:20261025T010000
END:STANDARD
END:VTIMEZONE
BEGIN:VEVENT
DTSTART;TZID=Europe/Zurich:20250210T170000
DTEND;TZID=Europe/Zurich:20250210T200000
DTSTAMP:20260425T171300
CREATED:20240927T132143Z
LAST-MODIFIED:20250115T083321Z
UID:3987-1739206800-1739217600@gentianaschool.org
SUMMARY:General Assembly 2025
DESCRIPTION:20th General Assembly of the Gentiana Schools Association\, Nairobi\nDear members of the association Gentiana Schools Nairobi \nWe cordially invite you to the 20th General Assembly of the Gentiana Schools Nairobi Association. The meeting will be held in the parish hall of the Catholic parish of St. Peter and Paul in Winterthur. To our delight\, Peter Baumgartner will be there. The actual meeting begins at 18:15. Beforehand\, we cordially invite you to an aperitif and a pleasant get-together with discussions from 17.00h. \n\nDate: Monday\, February 10\, 2025 \n\n \nLocation:\nPfarreiheim der kath. Pfarrei St.Peter und Paul\nLaboratoriumstrasse. 5\, Winterthur\nWalking time from the station: 7 minutes. \n\nTime:\nfrom 17h General exchange and aperitif\nMeeting 18.15 – 20.00h \n\n\n\nWe look forward to welcoming you to Winterthur. \nOn behalf of the Association Board\nBruno Bollhalder\, President \nMuren 645\, 9657 Unterwasser\n079 825 81 55\ninfo@gentianaschool.org \n\n\nAgenda\n1\nWelcome \n2\nElection of the tellers \n3\nApproval of the minutes of the AGM of 04.03.2024\nNote: The minutes can be downloaded here.\n GV2025_Traktandum 3_Protokoll GV 2024 \n4\nAnnual Report 2024\nNote: The Annual Report 2024 is available here.\n GV2025_Traktandum 4_Jahresbericht 2024 \n5\nAnnual financial statements 2024\nNote: The annual financial statements for 2024 are available here.\n AGM2025_Agenda item 5_Annual financial statements 2024 \n6\n2024 audit report\nNote: The 2024 audit report is available here.\n AGM2025_agenda_item 6_audit_report \n7\nBudget 2025\nNote: The 2025 budget is available on the homepage.\n GV2025_Traktandum 7_Budget 2025 \n8\nElections\nElection of Jürg Eschenmoser\, Mörschwil\, as auditor until the 2026 AGM.\n AGM2025_Agenda item 8_Election of auditor \n9\nNews from Kenya\nPeter Baumgartner will report on the Gentiana schools. \n10\nMiscellaneous:\nQuestions and discussions \n\nMotions to be presented to the AGM must be submitted to the Association’s Board of Directors by January 31\, 2025 at the latest.
URL:https://gentianaschool.org/en/event/general-assembly-2025/
LOCATION:Parish hall of the catholic parish St.Peter and Paul\, Laboratory Street 5\, Winterthur\, Zurich\, 8400\, Switzerland
CATEGORIES:Event,GV
ATTACH;FMTTYPE=image/jpeg:https://gentianaschool.org/wp-content/uploads/2024/09/20241203_110536-scaled.jpg
ORGANIZER;CN="Bruno Bollhalder":MAILTO:info@gentianaschool.org
END:VEVENT
BEGIN:VEVENT
DTSTART;TZID=Europe/Zurich:20240304T170000
DTEND;TZID=Europe/Zurich:20240304T200000
DTSTAMP:20260425T171300
CREATED:20230927T104326Z
LAST-MODIFIED:20240130T235952Z
UID:3656-1709571600-1709582400@gentianaschool.org
SUMMARY:General Assembly 2024
DESCRIPTION:19th General Assembly of the Gentiana Schools Association\, Nairobi\nDear members of the association Gentiana Schools Nairobi \nWe cordially invite you to the 19th General Assembly of the Association of Gentiana Schools Nairobi. The meeting will be held in the parish hall of the Catholic parish of St. Peter and Paul in Winterthur. To our delight\, Peter Baumgartner will be there. The actual meeting begins at 18:15. Beforehand\, we cordially invite you to an aperitif and a pleasant get-together with discussions from 17.00h. \n\nDate: Monday\, March 4\, 2024 \n\n \nLocation:\nPfarreiheim der kath. Pfarrei St.Peter und Paul\nLaboratoriumstrasse. 5\, Winterthur\nWalking time from the train station: 7 minutes. \n\nTime:\nfrom 17h general exchange and aperitif\nMeeting 18.15 – 20.00h \n\n\n\nWe look forward to welcoming you in Winterthur. \nOn behalf of the association board\nBruno Bollhalder\, President \nMuren 645\, 9657 Unterwasser\n079 825 81 55\ninfo@gentianaschool.org \n\n\nAgenda\n1\nWelcome \n2\nElection of the tellers \n3\nApproval of the minutes of the AGM of 24.04.2023\nNote: The protocol is available here.\nAGM 2023_ Minutes \n4\nAnnual report 2023\nNote: The 2023 annual report is available here.\nAGM 2024_Objective 4_Annual report 2023 \n5\nAnnual financial statements 2023\nNote: The 2023 annual financial statements are available here.\nAGM 2024_Item 5_Annual financial statements 2023 \n6\nAudit report 2023\nNote: The 2023 audit report is available here.\nAGM 2024_Item 6_Revision report 2023 \n7\nBudget 2024\nNote: The 2024 budget is available on the homepage.\nAGM 2024_Objective 7_Budget 2024 \n8\nAmendment to the Articles of Association\nAGM 2024_Item 8_Amendment to the Articles of Association\nAGM 2024_agenda item 8_amendment to articles of association_synopsis\n \n9\nElections\nElections Board of Directors\nAGM 2024_Item 9.1_Elections to the Executive Board \nElections Auditor\nAGM 2024_Item 9.2_Election of auditor \n10\nNews from Kenya\nPeter Baumgartner will report on the Gentiana schools. \n11\nMiscellaneous:\nQuestions and discussions \n\nMotions to be submitted to the AGM must be submitted in writing to the Association’s Board of Directors by February 15\, 2024 at the latest.
URL:https://gentianaschool.org/en/event/general-assembly-2024/
LOCATION:Parish hall of the catholic parish St.Peter and Paul\, Laboratory Street 5\, Winterthur\, Zurich\, 8400\, Switzerland
CATEGORIES:Event,GV
ATTACH;FMTTYPE=image/jpeg:https://gentianaschool.org/wp-content/uploads/2023/09/DSC_7991-scaled.jpg
ORGANIZER;CN="Bruno Bollhalder":MAILTO:info@gentianaschool.org
END:VEVENT
BEGIN:VEVENT
DTSTART;TZID=Europe/Zurich:20230424T170000
DTEND;TZID=Europe/Zurich:20230424T200000
DTSTAMP:20260425T171300
CREATED:20160316T115245Z
LAST-MODIFIED:20230214T120759Z
UID:3370-1682355600-1682366400@gentianaschool.org
SUMMARY:General Assembly 2023
DESCRIPTION:18th General Assembly of the Gentiana Schools Association\, Nairobi\nDear members of the association Gentiana Schools Nairobi \nWe cordially invite you to the 18th General Assembly of the Association of Gentiana Schools Nairobi. The meeting will be held in the parish hall of the Catholic parish of St. Peter and Paul in Winterthur. To our delight\, Peter Baumgartner will be there. The actual meeting begins at 18.30h. Beforehand\, we cordially invite you to an aperitif and a pleasant get-together with discussions from 17.00h. \n\nDate: Monday\, April 24\, 2023 \n\n \nLocation:\nPfarreiheim der kath. Pfarrei St.Peter und Paul\nLaboratoriumstrasse. 5\, Winterthur\nWalking time from the train station: 7 minutes. \n\nTime:\nfrom 17h general exchange and aperitif\nAssembly 18.30 – 20.00h \n\n\n\nWe look forward to welcoming you in Winterthur. \nOn behalf of the association board\nBruno Bollhalder\, President \nMuren 645\, 9657 Unterwasser\n079 825 81 55\ninfo@gentianaschool.org \n\n\nAgenda\n1\nWelcome \n2\nElection of the tellers \n3\nApproval of the minutes of the AGM of 04.04.2022\nNote: The protocol is available here.\nProtocol_GV_2022 \n4\nAnnual report 2022\nNote: The 2022 Annual Report is available here.\nAnnual_Report_2022 \n5\nAnnual financial statement 2022\nNote: The 2022 financial statements are available here.\nAnnual_account_2022 \n6\nAudit report 2022\nNote: The 2022 audit report is available here.\nAudit_report_2022 \n7\nBudget 2023\nNote: The 2023 budget is available on the homepage.\nBudget_2023 \n8\nNews from Kenya\nPeter Baumgartner will report on the Gentiana schools. In particular\, he will present the new building of Gentiana Technical College and the newly introduced Junior Secondary School \n9\nMiscellaneous:\nQuestions and discussions \n\nMotions to be presented at the AGM must be submitted in writing to the Association’s Board of Directors no later than March 31\, 2023.
URL:https://gentianaschool.org/en/event/general-assembly-2023/
LOCATION:Parish hall of the catholic parish St.Peter and Paul\, Laboratory Street 5\, Winterthur\, Zurich\, 8400\, Switzerland
CATEGORIES:Event,GV
ATTACH;FMTTYPE=image/png:https://gentianaschool.org/wp-content/uploads/2023/01/GV_2023_1.png
ORGANIZER;CN="Bruno Bollhalder":MAILTO:info@gentianaschool.org
END:VEVENT
END:VCALENDAR